BEGIN:VCALENDAR
VERSION:2.0
PRODID:-// - ECPv6.15.20//NONSGML v1.0//EN
CALSCALE:GREGORIAN
METHOD:PUBLISH
X-ORIGINAL-URL:https://salisburycathedralfriends.co.uk
X-WR-CALDESC:Events for 
REFRESH-INTERVAL;VALUE=DURATION:PT1H
X-Robots-Tag:noindex
X-PUBLISHED-TTL:PT1H
BEGIN:VTIMEZONE
TZID:Europe/London
BEGIN:DAYLIGHT
TZOFFSETFROM:+0000
TZOFFSETTO:+0100
TZNAME:BST
DTSTART:20250330T010000
END:DAYLIGHT
BEGIN:STANDARD
TZOFFSETFROM:+0100
TZOFFSETTO:+0000
TZNAME:GMT
DTSTART:20251026T010000
END:STANDARD
BEGIN:DAYLIGHT
TZOFFSETFROM:+0000
TZOFFSETTO:+0100
TZNAME:BST
DTSTART:20260329T010000
END:DAYLIGHT
BEGIN:STANDARD
TZOFFSETFROM:+0100
TZOFFSETTO:+0000
TZNAME:GMT
DTSTART:20261025T010000
END:STANDARD
BEGIN:DAYLIGHT
TZOFFSETFROM:+0000
TZOFFSETTO:+0100
TZNAME:BST
DTSTART:20270328T010000
END:DAYLIGHT
BEGIN:STANDARD
TZOFFSETFROM:+0100
TZOFFSETTO:+0000
TZNAME:GMT
DTSTART:20271031T010000
END:STANDARD
END:VTIMEZONE
BEGIN:VEVENT
DTSTART;TZID=Europe/London:20260120T100000
DTEND;TZID=Europe/London:20260120T120000
DTSTAMP:20260422T004455
CREATED:20251118T155827Z
LAST-MODIFIED:20251126T104247Z
UID:1848-1768903200-1768910400@salisburycathedralfriends.co.uk
SUMMARY:January Coffee Morning
DESCRIPTION:Coffee Morning in the Bell Tower Tea Rooms\nTuesday 20th January 2026 10.00am-12.00pm.\nOur ever-popular coffee mornings continue –\na great way to meet up with new friends and old over a cup of coffee.\nAll welcome\, members and non-members\, no need to book.\nNo charge but donations welcomed.
URL:https://salisburycathedralfriends.co.uk/event/january-coffee-morning/
LOCATION:Wiltshire
END:VEVENT
BEGIN:VEVENT
DTSTART;TZID=Europe/London:20260123T183000
DTEND;TZID=Europe/London:20260123T203000
DTSTAMP:20260422T004455
CREATED:20251118T155514Z
LAST-MODIFIED:20260119T113911Z
UID:1846-1769193000-1769200200@salisburycathedralfriends.co.uk
SUMMARY:Desert Island Discs
DESCRIPTION:Desert Island Discs Evening- THIS EVENT IS NOW WAITLIST ONLY\nFriday 23rd January 2026\, 6.30-8.30pm @ Salisbury Cathedral Refectory\nJoin us on our own desert island in the company of our castaway\, Maggie Guillebaud\nand Interviewer Tim Daykin\, as we enjoy Maggie’s stories and music.\nTickets £20 (includes a glass of wine or soft drink and nibbles)\nContact the office to book-early booking strongly advised \n 
URL:https://salisburycathedralfriends.co.uk/event/desert-island-discs/
LOCATION:Wiltshire
END:VEVENT
BEGIN:VEVENT
DTSTART;TZID=Europe/London:20260217T100000
DTEND;TZID=Europe/London:20260217T120000
DTSTAMP:20260422T004455
CREATED:20260209T154022Z
LAST-MODIFIED:20260209T154344Z
UID:1868-1771322400-1771329600@salisburycathedralfriends.co.uk
SUMMARY:February Coffee Morning
DESCRIPTION:Join the Friends of Salisbury Cathedral for our monthly Coffee Morning. \nTuesday 17th February 10am-12pm at the Bell Tower Tea Rooms. \nFresh Tea/Coffee and homemade cakes. \nThis is a free event\, open to anyone who wishes to attend. Donations are welcome.
URL:https://salisburycathedralfriends.co.uk/event/february-coffee-morning/
LOCATION:Wiltshire
END:VEVENT
BEGIN:VEVENT
DTSTART;TZID=Europe/London:20260421T093000
DTEND;TZID=Europe/London:20260421T160000
DTSTAMP:20260422T004455
CREATED:20251215T122302Z
LAST-MODIFIED:20260224T152932Z
UID:1860-1776763800-1776787200@salisburycathedralfriends.co.uk
SUMMARY:Wimborne Minster Day Trip
DESCRIPTION:# \nWimborne Minster Day Trip Tuesday 21st April \nThe Friends of Salisbury Cathedral will be taking a trip to Wimborne Minster. \nTickets are priced at £25 per person for the morning. This trip includes travel to and from the Minster\, a guided tour\, and a visit to the library\, leaving Salisbury at 10.15am. \nThere is the option to join Natalie at the Olive Branch Restaurant for lunch (paid separately) or to wander around Wimborne town. Please let Natalie know at the time of booking. \nBOOK NOW BY CLICKING HERE.
URL:https://salisburycathedralfriends.co.uk/event/wimborne-minster-day-trip/
LOCATION:Wiltshire
END:VEVENT
BEGIN:VEVENT
DTSTART;TZID=Europe/London:20260524T130000
DTEND;TZID=Europe/London:20260524T170000
DTSTAMP:20260422T004455
CREATED:20260305T153355Z
LAST-MODIFIED:20260305T160759Z
UID:1878-1779627600-1779642000@salisburycathedralfriends.co.uk
SUMMARY:The Secret Gardens of the Close
DESCRIPTION:The Friends’ Annual Secret Gardens of the Close returns this May. \n Sunday 24th May 13.00 until 17.00.  \nThe spectacular event allows members of the public to view some of the fascinating gardens within the close for one day only! \nTickets can be purchased on the day at the pay tent on Choristers Green for £15.   \nAre you a Friend of Salisbury Cathedral? If so you are invited to book a discounted early-bird ticket. \nIf you would be willing to volunteer for the event please use our sign up form here: https://friendsofsalisburycathedral.beaconforms.com/form/eae08db5
URL:https://salisburycathedralfriends.co.uk/event/the-secret-gardens-of-the-close/
LOCATION:Gardens of the Close\, The Close\, Salisbury\, Wiltshire\, SP1 2EL\, United Kingdom
ATTACH;FMTTYPE=image/jpeg:https://salisburycathedralfriends.co.uk/wp-content/uploads/2020/06/DSC00778_1g-scaled.jpg
ORGANIZER;CN="The Friends' Office":MAILTO:friends@salcath.co.uk
END:VEVENT
END:VCALENDAR