BEGIN:VCALENDAR
VERSION:2.0
PRODID:-// - ECPv6.15.20//NONSGML v1.0//EN
CALSCALE:GREGORIAN
METHOD:PUBLISH
X-ORIGINAL-URL:https://salisburycathedralfriends.co.uk
X-WR-CALDESC:Events for 
REFRESH-INTERVAL;VALUE=DURATION:PT1H
X-Robots-Tag:noindex
X-PUBLISHED-TTL:PT1H
BEGIN:VTIMEZONE
TZID:Europe/London
BEGIN:DAYLIGHT
TZOFFSETFROM:+0000
TZOFFSETTO:+0100
TZNAME:BST
DTSTART:20240331T010000
END:DAYLIGHT
BEGIN:STANDARD
TZOFFSETFROM:+0100
TZOFFSETTO:+0000
TZNAME:GMT
DTSTART:20241027T010000
END:STANDARD
BEGIN:DAYLIGHT
TZOFFSETFROM:+0000
TZOFFSETTO:+0100
TZNAME:BST
DTSTART:20250330T010000
END:DAYLIGHT
BEGIN:STANDARD
TZOFFSETFROM:+0100
TZOFFSETTO:+0000
TZNAME:GMT
DTSTART:20251026T010000
END:STANDARD
BEGIN:DAYLIGHT
TZOFFSETFROM:+0000
TZOFFSETTO:+0100
TZNAME:BST
DTSTART:20260329T010000
END:DAYLIGHT
BEGIN:STANDARD
TZOFFSETFROM:+0100
TZOFFSETTO:+0000
TZNAME:GMT
DTSTART:20261025T010000
END:STANDARD
END:VTIMEZONE
BEGIN:VEVENT
DTSTART;TZID=Europe/London:20250530T123000
DTEND;TZID=Europe/London:20250612T200000
DTSTAMP:20260422T105215
CREATED:20250530T094608Z
LAST-MODIFIED:20250530T094806Z
UID:1824-1748608200-1749758400@salisburycathedralfriends.co.uk
SUMMARY:Sherborne Abbey Trip
DESCRIPTION:The Friends of Salisbury visit to Sherborne Abbey on Thursday 12th June. \n12.30-12.45 Coach Collection from St John’s Steet\, Salisbury \n13.45-14.00 Arrive at Sherborne Abbey \n14.00 Guided Tour of Sherborne Abbey \n15.30 Afternoon Tea in the NEW Tea Rooms \n17.30-18.30 Evensong \n18.45 Coach Collection from Sherborne Abbey \n19.45-20.00 Arrive back in Salisbury \nTickets are £35pp\, including travel and Afternoon tea. To book your place here: https://friendsofsalisburycathedral.beaconforms.com/form/17947275 \n  \nIf you have any questions\, please do not hesitate to contact Natalie directly via email: friends@salcath.co.uk.
URL:https://salisburycathedralfriends.co.uk/event/sherborne-abbey-trip/
LOCATION:Wiltshire
ATTACH;FMTTYPE=image/jpeg:https://salisburycathedralfriends.co.uk/wp-content/uploads/2025/05/Sherborne.jpg
END:VEVENT
END:VCALENDAR