BEGIN:VCALENDAR
VERSION:2.0
PRODID:-// - ECPv6.15.20//NONSGML v1.0//EN
CALSCALE:GREGORIAN
METHOD:PUBLISH
X-ORIGINAL-URL:https://salisburycathedralfriends.co.uk
X-WR-CALDESC:Events for 
REFRESH-INTERVAL;VALUE=DURATION:PT1H
X-Robots-Tag:noindex
X-PUBLISHED-TTL:PT1H
BEGIN:VTIMEZONE
TZID:Europe/London
BEGIN:DAYLIGHT
TZOFFSETFROM:+0000
TZOFFSETTO:+0100
TZNAME:BST
DTSTART:20240331T010000
END:DAYLIGHT
BEGIN:STANDARD
TZOFFSETFROM:+0100
TZOFFSETTO:+0000
TZNAME:GMT
DTSTART:20241027T010000
END:STANDARD
BEGIN:DAYLIGHT
TZOFFSETFROM:+0000
TZOFFSETTO:+0100
TZNAME:BST
DTSTART:20250330T010000
END:DAYLIGHT
BEGIN:STANDARD
TZOFFSETFROM:+0100
TZOFFSETTO:+0000
TZNAME:GMT
DTSTART:20251026T010000
END:STANDARD
BEGIN:DAYLIGHT
TZOFFSETFROM:+0000
TZOFFSETTO:+0100
TZNAME:BST
DTSTART:20260329T010000
END:DAYLIGHT
BEGIN:STANDARD
TZOFFSETFROM:+0100
TZOFFSETTO:+0000
TZNAME:GMT
DTSTART:20261025T010000
END:STANDARD
END:VTIMEZONE
BEGIN:VEVENT
DTSTART;TZID=Europe/London:20250920T140000
DTEND;TZID=Europe/London:20250920T170000
DTSTAMP:20260422T055149
CREATED:20250311T154304Z
LAST-MODIFIED:20250311T154304Z
UID:1790-1758376800-1758387600@salisburycathedralfriends.co.uk
SUMMARY:AGM & Friends Day
DESCRIPTION:Save the date- Saturday 20th September 2.00pm until 5.00pm
URL:https://salisburycathedralfriends.co.uk/event/agm-friends-day/
LOCATION:North Transept\, Salisbury Cathedral\, The Close\, Salisbury\, SP1 2EF
ATTACH;FMTTYPE=image/jpeg:https://salisburycathedralfriends.co.uk/wp-content/uploads/2022/09/Tea-party-scaled.jpg
END:VEVENT
END:VCALENDAR