BEGIN:VCALENDAR
VERSION:2.0
PRODID:-// - ECPv6.15.20//NONSGML v1.0//EN
CALSCALE:GREGORIAN
METHOD:PUBLISH
X-ORIGINAL-URL:https://salisburycathedralfriends.co.uk
X-WR-CALDESC:Events for 
REFRESH-INTERVAL;VALUE=DURATION:PT1H
X-Robots-Tag:noindex
X-PUBLISHED-TTL:PT1H
BEGIN:VTIMEZONE
TZID:Europe/London
BEGIN:DAYLIGHT
TZOFFSETFROM:+0000
TZOFFSETTO:+0100
TZNAME:BST
DTSTART:20250330T010000
END:DAYLIGHT
BEGIN:STANDARD
TZOFFSETFROM:+0100
TZOFFSETTO:+0000
TZNAME:GMT
DTSTART:20251026T010000
END:STANDARD
BEGIN:DAYLIGHT
TZOFFSETFROM:+0000
TZOFFSETTO:+0100
TZNAME:BST
DTSTART:20260329T010000
END:DAYLIGHT
BEGIN:STANDARD
TZOFFSETFROM:+0100
TZOFFSETTO:+0000
TZNAME:GMT
DTSTART:20261025T010000
END:STANDARD
BEGIN:DAYLIGHT
TZOFFSETFROM:+0000
TZOFFSETTO:+0100
TZNAME:BST
DTSTART:20270328T010000
END:DAYLIGHT
BEGIN:STANDARD
TZOFFSETFROM:+0100
TZOFFSETTO:+0000
TZNAME:GMT
DTSTART:20271031T010000
END:STANDARD
END:VTIMEZONE
BEGIN:VEVENT
DTSTART;TZID=Europe/London:20260421T093000
DTEND;TZID=Europe/London:20260421T160000
DTSTAMP:20260421T181626
CREATED:20251215T122302Z
LAST-MODIFIED:20260224T152932Z
UID:1860-1776763800-1776787200@salisburycathedralfriends.co.uk
SUMMARY:Wimborne Minster Day Trip
DESCRIPTION:# \nWimborne Minster Day Trip Tuesday 21st April \nThe Friends of Salisbury Cathedral will be taking a trip to Wimborne Minster. \nTickets are priced at £25 per person for the morning. This trip includes travel to and from the Minster\, a guided tour\, and a visit to the library\, leaving Salisbury at 10.15am. \nThere is the option to join Natalie at the Olive Branch Restaurant for lunch (paid separately) or to wander around Wimborne town. Please let Natalie know at the time of booking. \nBOOK NOW BY CLICKING HERE.
URL:https://salisburycathedralfriends.co.uk/event/wimborne-minster-day-trip/
LOCATION:Wiltshire
END:VEVENT
END:VCALENDAR